10948.081055
0
0
-10948.642578
-2766203.500000
1661330.000000
