7348.141602
0
0
-7348.629395
-46433.207031
1466871.625000
