5420.342285
0
0
-5420.752930
-1836410.125000
1341325.125000
