5541.439453
0
0
-5541.854004
-3012892.500000
1891450.375000
