2925.966553
0
0
-2926.180420
1012040.687500
739203.500000
