5000.134277
0
0
-5000.395996
-3236300.250000
836849.625000
