3809.291016
0
0
-3809.619141
988760.312500
1462391.375000
