2658.325439
0
0
-2658.473145
-812162.125000
104826.960938
