2047.502319
0
0
-2047.582397
546621.062500
-352534.218750
