1488.070068
0
0
-1488.143555
175422.296875
-246021.437500
