2516.954834
0
0
-2517.061768
-1946117.125000
-87754.226562
