565.854675
0
0
-565.901855
1985729.875000
660411.000000
