94.997543
0
0
-94.999489
1836795.250000
199357.218750
