3090.210205
0
0
-3090.452393
-2092106.750000
1284127.875000
