1702.455444
0
0
-1702.582764
562102.937500
392104.781250
