1296.905762
0
0
-1296.991821
-343729.375000
119971.906250
