1388.781860
0
0
-1388.873291
740789.812500
143567.703125
