1747.859131
0
0
-1747.914673
198602.609375
-621760.750000
