2870.445557
0
0
-2870.694580
169356.078125
1151569.375000
