1961.857300
0
0
-1961.982300
-7154.996094
219916.984375
