2012.153687
0
0
-2012.231689
256879.718750
-391387.093750
