1275.787109
0
0
-1275.902588
-493863.500000
1118743.500000
