1459.309814
0
0
-1459.419800
-505792.625000
481717.156250
