1167.023926
0
0
-1167.124023
1823410.375000
1051189.625000
