2399.796387
0
0
-2399.901367
-1370628.375000
-164610.671875
