3135.328125
0
0
-3135.510254
-2491207.750000
564328.125000
