2324.493164
0
0
-2324.691895
1214395.875000
1004030.312500
