1629.150391
0
0
-1629.275391
897074.062500
480124.656250
