1556.374634
0
0
-1556.457764
-452156.343750
-193083.937500
