2284.920654
0
0
-2285.090332
-2399077.000000
1126070.875000
