1384.690674
0
0
-1384.801392
1372974.500000
624461.437500
