638.044617
0
0
-638.030212
3339381.500000
-1764108.750000
