405.107147
0
0
-405.139709
2131468.750000
672277.500000
