1525.128296
0
0
-1525.198730
1211735.500000
-233939.812500
