1423.838257
0
0
-1423.958984
-539205.062500
778691.750000
