1578.269043
0
0
-1578.360352
696856.062500
-47722.531250
