4350.604492
0
0
-4350.731445
-1371748.625000
-217907.734375
