2203.531982
0
0
-2203.673340
-1738248.500000
448939.218750
