1662.229736
0
0
-1662.338501
1213992.875000
306297.875000
