1047.952881
0
0
-1048.041870
1795183.125000
997784.062500
