1933.902222
0
0
-1934.048828
-2232105.000000
1424163.750000
