1985.382935
0
0
-1985.555054
141340.578125
961238.187500
