1636.927002
0
0
-1637.044678
1135313.750000
383049.000000
