1799.682983
0
0
-1799.823120
-1245543.875000
736932.250000
