2183.712402
0
0
-2183.822754
-12401397.000000
4451125.500000
