1422.244629
0
0
-1422.372559
-11430823.000000
5780375.000000
