1311.652710
0
0
-1311.732056
-8950747.000000
4649398.000000
