1370.379517
0
0
-1370.488525
-8605429.000000
5432989.000000
