1110.239258
0
0
-1110.300659
-11592664.000000
4424915.000000
