1588.632202
0
0
-1588.771240
-9883383.000000
5884977.000000
